BEGIN:VCALENDAR
VERSION:2.0
PRODID:-//THOMAS GIGOT - ECPv6.15.20//NONSGML v1.0//EN
CALSCALE:GREGORIAN
METHOD:PUBLISH
X-WR-CALNAME:THOMAS GIGOT
X-ORIGINAL-URL:http://www.thomasgigot.com
X-WR-CALDESC:Évènements pour THOMAS GIGOT
REFRESH-INTERVAL;VALUE=DURATION:PT1H
X-Robots-Tag:noindex
X-PUBLISHED-TTL:PT1H
BEGIN:VTIMEZONE
TZID:Europe/Paris
BEGIN:DAYLIGHT
TZOFFSETFROM:+0100
TZOFFSETTO:+0200
TZNAME:CEST
DTSTART:20210328T010000
END:DAYLIGHT
BEGIN:STANDARD
TZOFFSETFROM:+0200
TZOFFSETTO:+0100
TZNAME:CET
DTSTART:20211031T010000
END:STANDARD
BEGIN:DAYLIGHT
TZOFFSETFROM:+0100
TZOFFSETTO:+0200
TZNAME:CEST
DTSTART:20220327T010000
END:DAYLIGHT
BEGIN:STANDARD
TZOFFSETFROM:+0200
TZOFFSETTO:+0100
TZNAME:CET
DTSTART:20221030T010000
END:STANDARD
BEGIN:DAYLIGHT
TZOFFSETFROM:+0100
TZOFFSETTO:+0200
TZNAME:CEST
DTSTART:20230326T010000
END:DAYLIGHT
BEGIN:STANDARD
TZOFFSETFROM:+0200
TZOFFSETTO:+0100
TZNAME:CET
DTSTART:20231029T010000
END:STANDARD
END:VTIMEZONE
BEGIN:VEVENT
DTSTART;VALUE=DATE:20220501
DTEND;VALUE=DATE:20220516
DTSTAMP:20260421T184620
CREATED:20240816T164538Z
LAST-MODIFIED:20240816T164538Z
UID:133-1651363200-1652659199@www.thomasgigot.com
SUMMARY:Galerie Vous - L'Isle-sur-la-Sorgue (84)
DESCRIPTION:
URL:http://www.thomasgigot.com/evenement/galerie-vous-lisle-sur-la-sorgue-84/
LOCATION:Galerie Vous\, 15 rue Danton\, L'Isle-sur-la-Sorgue\, 84800\, France
CATEGORIES:Exposition
ATTACH;FMTTYPE=image/jpeg:http://www.thomasgigot.com/wp-content/uploads/2024/08/events-4-20220909140520.jpg
END:VEVENT
END:VCALENDAR